BEGIN:VCALENDAR
VERSION:2.0
PRODID:-//Tukios.com/
BEGIN:VEVENT
UID:3e9d1bde-24bf-47a0-9715-0b263481b0c0@www.robersonfuneral.com
DTSTAMP:20260424T041101Z
DTSTART:20260425T160000Z
DTEND:20260425T170000Z
SUMMARY:Visitation
DESCRIPTION:
URL:https://www.robersonfuneral.com/obituaries/lowell-eldridge
LOCATION: 400 Main St  South Shore KY 41175
GEO:38.7197205;-82.963909
END:VEVENT
END:VCALENDAR