BEGIN:VCALENDAR
VERSION:2.0
PRODID:-//Tukios.com/
BEGIN:VEVENT
UID:5ef05c5b-1bda-4679-8524-b118c2f54691@www.robersonfuneral.com
DTSTAMP:20260424T040954Z
DTSTART:20260425T170000Z
DTEND:20260425T180000Z
SUMMARY:Funeral Service
DESCRIPTION:
URL:https://www.robersonfuneral.com/obituaries/lowell-eldridge
LOCATION: 400 Main St  South Shore KY 41175
GEO:38.7197205;-82.963909
END:VEVENT
END:VCALENDAR