BEGIN:VCALENDAR
VERSION:2.0
PRODID:-//Tukios.com/
BEGIN:VEVENT
UID:18a7e12f-9497-4828-8a5c-947c47c9af7b@www.robersonfuneral.com
DTSTAMP:20260420T062746Z
DTSTART:20260421T170000Z
DTEND:20260421T180000Z
SUMMARY:Funeral Service
DESCRIPTION:
URL:https://www.robersonfuneral.com/obituaries/kevin-potter
LOCATION:Roberson Funeral Home 400 Main St  South Shore KY 41175
GEO:38.7197205;-82.963909
END:VEVENT
END:VCALENDAR