BEGIN:VCALENDAR
VERSION:2.0
PRODID:-//Tukios.com/
BEGIN:VEVENT
UID:6af6dd06-6c77-455f-be67-e430e73d524c@www.robersonfuneral.com
DTSTAMP:20260420T062751Z
DTSTART:20260421T160000Z
DTEND:20260421T170000Z
SUMMARY:Visitation
DESCRIPTION:
URL:https://www.robersonfuneral.com/obituaries/kevin-potter
LOCATION:Roberson Funeral Home 400 Main St  South Shore KY 41175
GEO:38.7197205;-82.963909
END:VEVENT
END:VCALENDAR